BEGIN:VCALENDAR
VERSION:2.0
PRODID:-//Colmar Touch Rugby - ECPv6.15.17.1//NONSGML v1.0//EN
CALSCALE:GREGORIAN
METHOD:PUBLISH
X-ORIGINAL-URL:https://www.touch-rugby-colmar.com
X-WR-CALDESC:Évènements pour Colmar Touch Rugby
REFRESH-INTERVAL;VALUE=DURATION:PT1H
X-Robots-Tag:noindex
X-PUBLISHED-TTL:PT1H
BEGIN:VTIMEZONE
TZID:Europe/Helsinki
BEGIN:DAYLIGHT
TZOFFSETFROM:+0200
TZOFFSETTO:+0300
TZNAME:EEST
DTSTART:20250330T010000
END:DAYLIGHT
BEGIN:STANDARD
TZOFFSETFROM:+0300
TZOFFSETTO:+0200
TZNAME:EET
DTSTART:20251026T010000
END:STANDARD
BEGIN:DAYLIGHT
TZOFFSETFROM:+0200
TZOFFSETTO:+0300
TZNAME:EEST
DTSTART:20260329T010000
END:DAYLIGHT
BEGIN:STANDARD
TZOFFSETFROM:+0300
TZOFFSETTO:+0200
TZNAME:EET
DTSTART:20261025T010000
END:STANDARD
BEGIN:DAYLIGHT
TZOFFSETFROM:+0200
TZOFFSETTO:+0300
TZNAME:EEST
DTSTART:20270328T010000
END:DAYLIGHT
BEGIN:STANDARD
TZOFFSETFROM:+0300
TZOFFSETTO:+0200
TZNAME:EET
DTSTART:20271031T010000
END:STANDARD
END:VTIMEZONE
BEGIN:VEVENT
DTSTART;TZID=Europe/Helsinki:20260131T084500
DTEND;TZID=Europe/Helsinki:20260131T140000
DTSTAMP:20260423T014218
CREATED:20251203T091053Z
LAST-MODIFIED:20251203T110726Z
UID:10976-1769849100-1769868000@www.touch-rugby-colmar.com
SUMMARY:Ecole de Touch - Entrainement à Strasbourg
DESCRIPTION:Entrainement commun avec les lionceaux de Strasbourg. Pique-nique sur place. (à confirmer)
URL:https://www.touch-rugby-colmar.com/calendrier/entrainement-a-strasbourg/
LOCATION:Strasbourg\, Rue Pierre Nuss\, Strasbourg\, 67200\, France
CATEGORIES:Ecole de Touch
ATTACH;FMTTYPE=image/png:https://www.touch-rugby-colmar.com/wp-content/uploads/2025/11/Design-sans-titre-2-e1762425595393.png
END:VEVENT
END:VCALENDAR